BEGIN:VCALENDAR
VERSION:2.0
PRODID:-//German Wine Society DC Chapter - ECPv6.8.0//NONSGML v1.0//EN
CALSCALE:GREGORIAN
METHOD:PUBLISH
X-WR-CALNAME:German Wine Society DC Chapter
X-ORIGINAL-URL:https://germanwinesocietydc.org
X-WR-CALDESC:Events for German Wine Society DC Chapter
REFRESH-INTERVAL;VALUE=DURATION:PT1H
X-Robots-Tag:noindex
X-PUBLISHED-TTL:PT1H
BEGIN:VTIMEZONE
TZID:America/New_York
BEGIN:DAYLIGHT
TZOFFSETFROM:-0500
TZOFFSETTO:-0400
TZNAME:EDT
DTSTART:20100314T070000
END:DAYLIGHT
BEGIN:STANDARD
TZOFFSETFROM:-0400
TZOFFSETTO:-0500
TZNAME:EST
DTSTART:20101107T060000
END:STANDARD
END:VTIMEZONE
BEGIN:VEVENT
DTSTART;TZID=America/New_York:20100620T190000
DTEND;TZID=America/New_York:20100620T220000
DTSTAMP:20260420T022430
CREATED:20141206T205321Z
LAST-MODIFIED:20141206T205336Z
UID:472-1277060400-1277071200@germanwinesocietydc.org
SUMMARY:Summer Solstice Cruise
DESCRIPTION:On Sunday evening\, June 20\, we will cruise the Potomac.  We will cast off all lines and get underway from Georgetown Harbor\, just at the bottom of 31st Street NW at 7:15 pm.\, aboard the Nightingale. This will be a relaxing\, post-dinner cruise so we can concentrate on the wines and the atmosphere.  There are many dining establishments in the Georgetown area\, several right in the Georgetown Harbor area\, and we encourage all who want to take the cruise to dine there beforehand.  We must depart EXACTLY at 7:15 pm for the two-hour cruise down the Potomac and back again to Georgetown Harbor. We will have a few cheeses and fruits to complement our excellent cellar wines. We encourage all who came to the German Embassy House for the Spargelfest and our other recent tastings to continue to show their enthusiasm by participating in this ever popular event.  The cost for the Potomac cruise will be $34 for members and $41 for non-members. The deadline for making a reservation is 16 June\, to give us sufficient time to get supplies. We are glad that we found a reasonably priced boat company for an event that our members have always enjoyed. The boat\, the Nightingale\, is the same boat we used the last three years and it is larger than the one we used in previous years. It is all on one level\, and we have tables and chairs and a bar from which to serve the wine.  It also has protection against inclement weather\, which of course will not occur. So\, please join us for this comfortable evening on the river.
URL:https://germanwinesocietydc.org/event/472/
LOCATION:Georgetown Waterfront\, 3050 K St.\, NW\, Washington\, DC\, 20007\, United States
CATEGORIES:Group Outing
ATTACH;FMTTYPE=image/jpeg:https://germanwinesocietydc.org/wp-content/uploads/2014/12/Nightingale.jpg
ORGANIZER;CN="Alan Knapp":MAILTO:aknapp@germanwinesocietydc.org
GEO:38.9037534;-77.0671758
X-APPLE-STRUCTURED-LOCATION;VALUE=URI;X-ADDRESS=Georgetown Waterfront 3050 K St. NW Washington DC 20007 United States;X-APPLE-RADIUS=500;X-TITLE=3050 K St.\, NW:geo:-77.0671758,38.9037534
END:VEVENT
BEGIN:VEVENT
DTSTART;TZID=America/New_York:20100514T190000
DTEND;TZID=America/New_York:20100514T220000
DTSTAMP:20260420T022430
CREATED:20141206T210055Z
LAST-MODIFIED:20141206T210055Z
UID:474-1273863600-1273874400@germanwinesocietydc.org
SUMMARY:GWS Spargelfest at the German Embassy House
DESCRIPTION:We are at that time of year again for our traditional Spargelfest dinner at the German Embassy House. This year it will be on Friday\, May 14\, starting with a Sekt Reception at 7:00 p.m. Dinner will be served at 7:30.  The price for the event will be $55 for members and $62 for non-members. The Board encourages all members and friends of the Society to reserve as early as possible.  The deadline for making a reservation is May 10.  The Embassy requires a statement of participants at that time for security reasons. Last minute walk-ins will not be permitted.  Everyone must have a picture ID to be admitted. We’ll celebrate this annual event with a menu of white and green asparagus with a homemade hollandaise sauce Frau Thuleweit will create for us (yum!)\, Chicken Saute with lyonaise potatoes\, Nuremburger Sausages\, and a meat platter of Black Forest ham\, prosciutto and Westphalia ham.  This delicious and traditional dinner ends with apple strudel with whipped cream\, Rote Gruetze\, and coffee. It will be a bountiful table under the careful direction of Frau Thuleweit\, who has always served us well.  We have paired this meal with wines from the Chapter’s cellar and others purchased to pair beautifully with the food. The wine list is being finalized and will be released in the coming days.  You can anticipate a Sekt reception\, followed by three flights of wine: two Gruener Veltliner followed by two Kabinett\, with two Auslese to accompany the dessert.
URL:https://germanwinesocietydc.org/event/gws-spargelfest-at-the-german-embassy-house/
LOCATION:German Embassy House\, 4645 Reservoir Road NW\, Washington\, DC\, 20037\, United States
CATEGORIES:Wine Dinner
ATTACH;FMTTYPE=image/jpeg:https://germanwinesocietydc.org/wp-content/uploads/2014/12/Embassy_of_Germany_Washington.jpg
ORGANIZER;CN="Hanne Caraher":MAILTO:hcaraher@germanwinesocietydc.org
GEO:38.914428;-77.0886529
X-APPLE-STRUCTURED-LOCATION;VALUE=URI;X-ADDRESS=German Embassy House 4645 Reservoir Road NW Washington DC 20037 United States;X-APPLE-RADIUS=500;X-TITLE=4645 Reservoir Road NW:geo:-77.0886529,38.914428
END:VEVENT
END:VCALENDAR